BEGIN:VCALENDAR
VERSION:2.0
PRODID:-//Plone.org//NONSGML plone.app.event//EN
X-WR-TIMEZONE:Europe/Berlin
BEGIN:VEVENT
SUMMARY:after work lounge - get2gether in der kantine
DTSTART;TZID=Europe/Berlin:20071004T170000
DTSTAMP:20260422T181522Z
UID:3dc66a6fb83c404ea9909407d99f951b@zmi.spielboden.at
CREATED:20120822T145218Z
DESCRIPTION:Erst war die Arbeit - jetzt die Kantine
LAST-MODIFIED:20210809T123710Z
URL:https://zmi.spielboden.at/Plone/veranstaltungen/2007/10_oktober/2007-1
 0-04-17-00-after-work-lounge-get2gether-in-der-kantine
END:VEVENT
BEGIN:VTIMEZONE
TZID:Europe/Berlin
X-LIC-LOCATION:Europe/Berlin
BEGIN:DAYLIGHT
DTSTART:20070325T030000
TZNAME:CEST
TZOFFSETFROM:+0100
TZOFFSETTO:+0200
END:DAYLIGHT
END:VTIMEZONE
END:VCALENDAR
