BEGIN:VCALENDAR
VERSION:2.0
PRODID:-//Plone.org//NONSGML plone.app.event//EN
X-WR-TIMEZONE:Europe/Berlin
BEGIN:VEVENT
SUMMARY:proFILE Jazz Festival – Jamaaladeen Tacuma
DTSTART;TZID=Europe/Berlin:20070929T200000
DTSTAMP:20260422T192247Z
UID:f26221234db9463c9c1025867ca6e6af@zmi.spielboden.at
CREATED:20120822T145133Z
LAST-MODIFIED:20210809T123701Z
URL:https://zmi.spielboden.at/Plone/veranstaltungen/2007/09_september/2007
 -09-29-20-00-profile-jazz-festival-2013-jamaaladeen-tacuma
END:VEVENT
BEGIN:VTIMEZONE
TZID:Europe/Berlin
X-LIC-LOCATION:Europe/Berlin
BEGIN:DAYLIGHT
DTSTART:20070325T030000
TZNAME:CEST
TZOFFSETFROM:+0100
TZOFFSETTO:+0200
END:DAYLIGHT
END:VTIMEZONE
END:VCALENDAR
