BEGIN:VCALENDAR
VERSION:2.0
PRODID:-//Plone.org//NONSGML plone.app.event//EN
X-WR-TIMEZONE:Europe/Berlin
BEGIN:VEVENT
SUMMARY:proFILE Jazz Festival – Alegre Corrêa
DTSTART;TZID=Europe/Berlin:20070928T200000
DTSTAMP:20260422T195912Z
UID:6e52c51f78e4439ebaada4cff2a2fb14@zmi.spielboden.at
CREATED:20120822T145132Z
LAST-MODIFIED:20210809T123700Z
URL:https://zmi.spielboden.at/Plone/veranstaltungen/2007/09_september/2007
 -09-28-20-00-profile-jazz-festival-2013-alegre-correa
END:VEVENT
BEGIN:VTIMEZONE
TZID:Europe/Berlin
X-LIC-LOCATION:Europe/Berlin
BEGIN:DAYLIGHT
DTSTART:20070325T030000
TZNAME:CEST
TZOFFSETFROM:+0100
TZOFFSETTO:+0200
END:DAYLIGHT
END:VTIMEZONE
END:VCALENDAR
