BEGIN:VCALENDAR
VERSION:2.0
PRODID:-//Plone.org//NONSGML plone.app.event//EN
X-WR-TIMEZONE:Europe/Berlin
BEGIN:VEVENT
SUMMARY:SONIC CAFE – heute mit Herr Aaron
DTSTART;TZID=Europe/Berlin:20070927T230000
DTSTAMP:20260422T181419Z
UID:9c382790dc644003872b56e8b3c1a84b@zmi.spielboden.at
CREATED:20120822T145155Z
LAST-MODIFIED:20120910T114149Z
URL:https://zmi.spielboden.at/Plone/veranstaltungen/2007/09_september/2007
 -09-27-23-00-sonic-cafe-2013-heute-mit-herr-aaron
END:VEVENT
BEGIN:VTIMEZONE
TZID:Europe/Berlin
X-LIC-LOCATION:Europe/Berlin
BEGIN:DAYLIGHT
DTSTART:20070325T030000
TZNAME:CEST
TZOFFSETFROM:+0100
TZOFFSETTO:+0200
END:DAYLIGHT
END:VTIMEZONE
END:VCALENDAR
