BEGIN:VCALENDAR
VERSION:2.0
PRODID:-//Plone.org//NONSGML plone.app.event//EN
X-WR-TIMEZONE:Europe/Berlin
BEGIN:VEVENT
SUMMARY:Elke Maria Riedmann – „Das Paradies auf Erden“
DTSTART;TZID=Europe/Berlin:20070927T203000
DTSTAMP:20260422T195914Z
UID:11a7464b75cc4712a08613bfd8214a97@zmi.spielboden.at
CREATED:20120822T145142Z
DESCRIPTION:Eine clowneske Tragikkömödie über Frau Heimpl.
LAST-MODIFIED:20210809T123703Z
URL:https://zmi.spielboden.at/Plone/veranstaltungen/2007/09_september/2007
 -09-27-20-30-elke-maria-riedmann-2013-201edas-paradies-auf-erden201c
END:VEVENT
BEGIN:VTIMEZONE
TZID:Europe/Berlin
X-LIC-LOCATION:Europe/Berlin
BEGIN:DAYLIGHT
DTSTART:20070325T030000
TZNAME:CEST
TZOFFSETFROM:+0100
TZOFFSETTO:+0200
END:DAYLIGHT
END:VTIMEZONE
END:VCALENDAR
