BEGIN:VCALENDAR
VERSION:2.0
PRODID:-//Plone.org//NONSGML plone.app.event//EN
X-WR-TIMEZONE:Europe/Berlin
BEGIN:VEVENT
SUMMARY:PREMIERE – Elke Maria Riedmann – „Das Paradies auf Erden“
DTSTART;TZID=Europe/Berlin:20070926T203000
DTSTAMP:20260424T104230Z
UID:327fb8d3fa724f30a563542599b471eb@zmi.spielboden.at
CREATED:20120822T145140Z
DESCRIPTION:Eine clowneske Tragikkömödie über Frau Heimpl.
LAST-MODIFIED:20210809T123703Z
URL:https://zmi.spielboden.at/Plone/veranstaltungen/2007/09_september/2007
 -09-26-20-30-premiere-2013-elke-maria-riedmann-2013-201edas-paradies-auf-e
 rden201c
END:VEVENT
BEGIN:VTIMEZONE
TZID:Europe/Berlin
X-LIC-LOCATION:Europe/Berlin
BEGIN:DAYLIGHT
DTSTART:20070325T030000
TZNAME:CEST
TZOFFSETFROM:+0100
TZOFFSETTO:+0200
END:DAYLIGHT
END:VTIMEZONE
END:VCALENDAR
