BEGIN:VCALENDAR
VERSION:2.0
PRODID:-//Plone.org//NONSGML plone.app.event//EN
X-WR-TIMEZONE:Europe/Berlin
BEGIN:VEVENT
SUMMARY:Film – Lust auf Anderes
DTSTART;TZID=Europe/Berlin:20070926T203000
DTSTAMP:20260422T200125Z
UID:1ed9689c94d442b2a94782e265989ed2@zmi.spielboden.at
CREATED:20120822T145148Z
DESCRIPTION:Originaltitel: Le goût des autres. 
LAST-MODIFIED:20210809T123704Z
URL:https://zmi.spielboden.at/Plone/veranstaltungen/2007/09_september/2007
 -09-26-20-30-film-2013-lust-auf-anderes
END:VEVENT
BEGIN:VTIMEZONE
TZID:Europe/Berlin
X-LIC-LOCATION:Europe/Berlin
BEGIN:DAYLIGHT
DTSTART:20070325T030000
TZNAME:CEST
TZOFFSETFROM:+0100
TZOFFSETTO:+0200
END:DAYLIGHT
END:VTIMEZONE
END:VCALENDAR
