BEGIN:VCALENDAR
VERSION:2.0
PRODID:-//Plone.org//NONSGML plone.app.event//EN
X-WR-TIMEZONE:Europe/Berlin
BEGIN:VEVENT
SUMMARY:Filmreihe Psychische Krankheiten – Snow Cake
DTSTART;TZID=Europe/Berlin:20070925T203000
DTSTAMP:20260422T194356Z
UID:c35dedbd89884432b57a48e665fd07ec@zmi.spielboden.at
CREATED:20120822T145139Z
DESCRIPTION:In Zusammenarbeit mit den Psychosozialen Gesundheitsdiensten V
 orarlberg.
LAST-MODIFIED:20210809T123703Z
URL:https://zmi.spielboden.at/Plone/veranstaltungen/2007/09_september/2007
 -09-25-20-30-filmreihe-psychische-krankheiten-2013-snow-cake
END:VEVENT
BEGIN:VTIMEZONE
TZID:Europe/Berlin
X-LIC-LOCATION:Europe/Berlin
BEGIN:DAYLIGHT
DTSTART:20070325T030000
TZNAME:CEST
TZOFFSETFROM:+0100
TZOFFSETTO:+0200
END:DAYLIGHT
END:VTIMEZONE
END:VCALENDAR
