BEGIN:VCALENDAR
VERSION:2.0
PRODID:-//Plone.org//NONSGML plone.app.event//EN
X-WR-TIMEZONE:Europe/Berlin
BEGIN:VEVENT
SUMMARY:SONIC CAFE – mit Fräulein Cicibe und Herr Aaron
DTSTART;TZID=Europe/Berlin:20070922T230000
DTSTAMP:20260422T195936Z
UID:883ac367de0b419ca7c99649c0ac378c@zmi.spielboden.at
CREATED:20120822T145154Z
LAST-MODIFIED:20120910T114149Z
URL:https://zmi.spielboden.at/Plone/veranstaltungen/2007/09_september/2007
 -09-22-23-00-sonic-cafe-2013-mit-fraeulein-cicibe-und-herr-aaron
END:VEVENT
BEGIN:VTIMEZONE
TZID:Europe/Berlin
X-LIC-LOCATION:Europe/Berlin
BEGIN:DAYLIGHT
DTSTART:20070325T030000
TZNAME:CEST
TZOFFSETFROM:+0100
TZOFFSETTO:+0200
END:DAYLIGHT
END:VTIMEZONE
END:VCALENDAR
