BEGIN:VCALENDAR
VERSION:2.0
PRODID:-//Plone.org//NONSGML plone.app.event//EN
X-WR-TIMEZONE:Europe/Berlin
BEGIN:VEVENT
SUMMARY:Ratz Fatz – „G´sang und G´schwatz“
DTSTART;TZID=Europe/Berlin:20070922T150000
DTSTAMP:20260422T181948Z
UID:903973cae3604520b6bf854dd99cd136@zmi.spielboden.at
CREATED:20120822T145151Z
DESCRIPTION:Kindermitmachkonzert ab 4 Jahren
LAST-MODIFIED:20210809T123704Z
URL:https://zmi.spielboden.at/Plone/veranstaltungen/2007/09_september/2007
 -09-22-15-00-ratz-fatz-2013-201egsang-und-gschwatz201c
END:VEVENT
BEGIN:VTIMEZONE
TZID:Europe/Berlin
X-LIC-LOCATION:Europe/Berlin
BEGIN:DAYLIGHT
DTSTART:20070325T030000
TZNAME:CEST
TZOFFSETFROM:+0100
TZOFFSETTO:+0200
END:DAYLIGHT
END:VTIMEZONE
END:VCALENDAR
