BEGIN:VCALENDAR
VERSION:2.0
PRODID:-//Plone.org//NONSGML plone.app.event//EN
X-WR-TIMEZONE:Europe/Berlin
BEGIN:VEVENT
SUMMARY:Lesereise – Titanic Boygroup
DTSTART;TZID=Europe/Berlin:20070921T203000
DTSTAMP:20260422T181513Z
UID:98a0b92945834bb49327d7e021926b5d@zmi.spielboden.at
CREATED:20120822T145129Z
DESCRIPTION:13 Jahre Satire für Deutschland:\nDie drei TITANIC-Chefredakt
 eure on tour! \n
LAST-MODIFIED:20210809T123700Z
URL:https://zmi.spielboden.at/Plone/veranstaltungen/2007/09_september/2007
 -09-21-20-30-lesereise-2013-titanic-boygroup
END:VEVENT
BEGIN:VTIMEZONE
TZID:Europe/Berlin
X-LIC-LOCATION:Europe/Berlin
BEGIN:DAYLIGHT
DTSTART:20070325T030000
TZNAME:CEST
TZOFFSETFROM:+0100
TZOFFSETTO:+0200
END:DAYLIGHT
END:VTIMEZONE
END:VCALENDAR
