BEGIN:VCALENDAR
VERSION:2.0
PRODID:-//Plone.org//NONSGML plone.app.event//EN
X-WR-TIMEZONE:Europe/Berlin
BEGIN:VEVENT
SUMMARY:Indie Rock and Pop Night mit DJ Ernesto
DTSTART;TZID=Europe/Berlin:20070920T210000
DTSTAMP:20260424T172153Z
UID:4ffe86bd09fb43168d94b6e9500f0c46@zmi.spielboden.at
CREATED:20120822T145142Z
LAST-MODIFIED:20210809T123703Z
URL:https://zmi.spielboden.at/Plone/veranstaltungen/2007/09_september/2007
 -09-20-21-00-indie-rock-and-pop-night-mit-dj-ernesto
END:VEVENT
BEGIN:VTIMEZONE
TZID:Europe/Berlin
X-LIC-LOCATION:Europe/Berlin
BEGIN:DAYLIGHT
DTSTART:20070325T030000
TZNAME:CEST
TZOFFSETFROM:+0100
TZOFFSETTO:+0200
END:DAYLIGHT
END:VTIMEZONE
END:VCALENDAR
