BEGIN:VCALENDAR
VERSION:2.0
PRODID:-//Plone.org//NONSGML plone.app.event//EN
X-WR-TIMEZONE:Europe/Berlin
BEGIN:VEVENT
SUMMARY:CD-Präsentation – Monofuse – „The Point Of No Return“
DTSTART;TZID=Europe/Berlin:20070919T203000
DTSTAMP:20260424T134613Z
UID:553b1eebfba243f2b51a153513bb8e47@zmi.spielboden.at
CREATED:20120822T145141Z
LAST-MODIFIED:20210809T123703Z
URL:https://zmi.spielboden.at/Plone/veranstaltungen/2007/09_september/2007
 -09-19-20-30-cd-praesentation-2013-monofuse-2013-201ethe-point-of-no-retur
 n201c
END:VEVENT
BEGIN:VTIMEZONE
TZID:Europe/Berlin
X-LIC-LOCATION:Europe/Berlin
BEGIN:DAYLIGHT
DTSTART:20070325T030000
TZNAME:CEST
TZOFFSETFROM:+0100
TZOFFSETTO:+0200
END:DAYLIGHT
END:VTIMEZONE
END:VCALENDAR
