BEGIN:VCALENDAR
VERSION:2.0
PRODID:-//Plone.org//NONSGML plone.app.event//EN
X-WR-TIMEZONE:Europe/Berlin
BEGIN:VEVENT
SUMMARY:Ingmar Bergman – Das Schweigen
DTSTART;TZID=Europe/Berlin:20070918T203000
DTSTAMP:20260422T195648Z
UID:9d4424b391134ddfbc138d311c6ee054@zmi.spielboden.at
CREATED:20120822T145137Z
LAST-MODIFIED:20210809T123702Z
URL:https://zmi.spielboden.at/Plone/veranstaltungen/2007/09_september/2007
 -09-18-20-30-ingmar-bergman-2013-das-schweigen
END:VEVENT
BEGIN:VTIMEZONE
TZID:Europe/Berlin
X-LIC-LOCATION:Europe/Berlin
BEGIN:DAYLIGHT
DTSTART:20070325T030000
TZNAME:CEST
TZOFFSETFROM:+0100
TZOFFSETTO:+0200
END:DAYLIGHT
END:VTIMEZONE
END:VCALENDAR
