BEGIN:VCALENDAR
VERSION:2.0
PRODID:-//Plone.org//NONSGML plone.app.event//EN
X-WR-TIMEZONE:Europe/Berlin
BEGIN:VEVENT
SUMMARY:Jazzorchester Vorarlberg & Andy Schreiber
DTSTART;TZID=Europe/Berlin:20070914T203000
DTSTAMP:20260422T183657Z
UID:f4f080bfd1814fbbb9c5a258045339a2@zmi.spielboden.at
CREATED:20120822T145127Z
LAST-MODIFIED:20210809T123700Z
URL:https://zmi.spielboden.at/Plone/veranstaltungen/2007/09_september/2007
 -09-14-20-30-jazzorchester-vorarlberg-andy-schreiber
END:VEVENT
BEGIN:VTIMEZONE
TZID:Europe/Berlin
X-LIC-LOCATION:Europe/Berlin
BEGIN:DAYLIGHT
DTSTART:20070325T030000
TZNAME:CEST
TZOFFSETFROM:+0100
TZOFFSETTO:+0200
END:DAYLIGHT
END:VTIMEZONE
END:VCALENDAR
