BEGIN:VCALENDAR
VERSION:2.0
PRODID:-//Plone.org//NONSGML plone.app.event//EN
X-WR-TIMEZONE:Europe/Berlin
BEGIN:VEVENT
SUMMARY:CD-Präsentation – Köttler/Herbert/Warren – „Brilanza“
DTSTART;TZID=Europe/Berlin:20070912T203000
DTSTAMP:20260422T195935Z
UID:8eea984abde24a93853a6983fa07b4d4@zmi.spielboden.at
CREATED:20120822T145126Z
LAST-MODIFIED:20210809T123700Z
URL:https://zmi.spielboden.at/Plone/veranstaltungen/2007/09_september/2007
 -09-12-20-30-cd-praesentation-2013-koettler-herbert-warren-2013-201ebrilan
 za201c
END:VEVENT
BEGIN:VTIMEZONE
TZID:Europe/Berlin
X-LIC-LOCATION:Europe/Berlin
BEGIN:DAYLIGHT
DTSTART:20070325T030000
TZNAME:CEST
TZOFFSETFROM:+0100
TZOFFSETTO:+0200
END:DAYLIGHT
END:VTIMEZONE
END:VCALENDAR
