BEGIN:VCALENDAR
VERSION:2.0
PRODID:-//Plone.org//NONSGML plone.app.event//EN
X-WR-TIMEZONE:Europe/Berlin
BEGIN:VEVENT
SUMMARY:Kinder von Tschernobyl
DTSTART;TZID=Europe/Berlin:20070912T190000
DTSTAMP:20260422T164110Z
UID:c4874731a7ef42bdb567d527e7d8fcf1@zmi.spielboden.at
CREATED:20120822T145136Z
DESCRIPTION:Begegnung mit Kindern aus Belarus\, dem unbekannten Land inmit
 ten Europas
LAST-MODIFIED:20210809T123701Z
URL:https://zmi.spielboden.at/Plone/veranstaltungen/2007/09_september/2007
 -09-12-19-00-kinder-von-tschernobyl
END:VEVENT
BEGIN:VTIMEZONE
TZID:Europe/Berlin
X-LIC-LOCATION:Europe/Berlin
BEGIN:DAYLIGHT
DTSTART:20070325T030000
TZNAME:CEST
TZOFFSETFROM:+0100
TZOFFSETTO:+0200
END:DAYLIGHT
END:VTIMEZONE
END:VCALENDAR
