BEGIN:VCALENDAR
VERSION:2.0
PRODID:-//Plone.org//NONSGML plone.app.event//EN
X-WR-TIMEZONE:Europe/Berlin
BEGIN:VEVENT
SUMMARY:Ingmar Bergman – Wilde Erdbeeren
DTSTART;TZID=Europe/Berlin:20070911T203000
DTSTAMP:20260422T181523Z
UID:6dac6f9177874ade93592786c40fa31f@zmi.spielboden.at
CREATED:20120822T145135Z
LAST-MODIFIED:20210809T123701Z
URL:https://zmi.spielboden.at/Plone/veranstaltungen/2007/09_september/2007
 -09-11-20-30-ingmar-bergman-2013-wilde-erdbeeren
END:VEVENT
BEGIN:VTIMEZONE
TZID:Europe/Berlin
X-LIC-LOCATION:Europe/Berlin
BEGIN:DAYLIGHT
DTSTART:20070325T030000
TZNAME:CEST
TZOFFSETFROM:+0100
TZOFFSETTO:+0200
END:DAYLIGHT
END:VTIMEZONE
END:VCALENDAR
