BEGIN:VCALENDAR
VERSION:2.0
PRODID:-//Plone.org//NONSGML plone.app.event//EN
X-WR-TIMEZONE:Europe/Berlin
BEGIN:VEVENT
SUMMARY:Binder & Krieglstein
DTSTART;TZID=Europe/Berlin:20070908T210000
DTSTAMP:20260422T181333Z
UID:ac2eba97d54c4db895b402fd6a57acca@zmi.spielboden.at
CREATED:20120822T145143Z
LAST-MODIFIED:20210809T123704Z
URL:https://zmi.spielboden.at/Plone/veranstaltungen/2007/09_september/2007
 -09-08-21-00-binder-krieglstein
END:VEVENT
BEGIN:VTIMEZONE
TZID:Europe/Berlin
X-LIC-LOCATION:Europe/Berlin
BEGIN:DAYLIGHT
DTSTART:20070325T030000
TZNAME:CEST
TZOFFSETFROM:+0100
TZOFFSETTO:+0200
END:DAYLIGHT
END:VTIMEZONE
END:VCALENDAR
