BEGIN:VCALENDAR
VERSION:2.0
PRODID:-//Plone.org//NONSGML plone.app.event//EN
X-WR-TIMEZONE:Europe/Berlin
BEGIN:VEVENT
SUMMARY:Afrobeat Night – Loving Memory to Fela Kuti
DTSTART;TZID=Europe/Berlin:20070901T210000
DTSTAMP:20260422T200054Z
UID:153d0f3e49524d1387854e9ef3586409@zmi.spielboden.at
CREATED:20120822T145144Z
LAST-MODIFIED:20210809T123704Z
URL:https://zmi.spielboden.at/Plone/veranstaltungen/2007/09_september/2007
 -09-01-21-00-afrobeat-night-2013-loving-memory-to-fela-kuti
END:VEVENT
BEGIN:VTIMEZONE
TZID:Europe/Berlin
X-LIC-LOCATION:Europe/Berlin
BEGIN:DAYLIGHT
DTSTART:20070325T030000
TZNAME:CEST
TZOFFSETFROM:+0100
TZOFFSETTO:+0200
END:DAYLIGHT
END:VTIMEZONE
END:VCALENDAR
