BEGIN:VCALENDAR
VERSION:2.0
PRODID:-//Plone.org//NONSGML plone.app.event//EN
X-WR-TIMEZONE:Europe/Berlin
BEGIN:VEVENT
SUMMARY:Saisonstart mit holstuonarmusigbigbandclub\, Tapete und Sonic Cafe
DTSTART;TZID=Europe/Berlin:20070907T193000
DTSTAMP:20260422T164414Z
UID:0e6e49de1c004a78a424df9548e10e1e@zmi.spielboden.at
CREATED:20120822T145125Z
LAST-MODIFIED:20210809T123700Z
URL:https://zmi.spielboden.at/Plone/veranstaltungen/2007/08_august/2007-09
 -07-19-30-saisonstart-mit-holstuonarmusigbigbandclub-tapete-und-sonic-cafe
END:VEVENT
BEGIN:VTIMEZONE
TZID:Europe/Berlin
X-LIC-LOCATION:Europe/Berlin
BEGIN:DAYLIGHT
DTSTART:20070325T030000
TZNAME:CEST
TZOFFSETFROM:+0100
TZOFFSETTO:+0200
END:DAYLIGHT
END:VTIMEZONE
END:VCALENDAR
