BEGIN:VCALENDAR
VERSION:2.0
PRODID:-//Plone.org//NONSGML plone.app.event//EN
X-WR-TIMEZONE:Europe/Berlin
BEGIN:VEVENT
SUMMARY:Sofa-Globe - Worldmusic no Dance-Event
DTSTART;TZID=Europe/Berlin:20070825T210000
DTSTAMP:20260424T140857Z
UID:44595913650d4f3e9eb68f72d89b2074@zmi.spielboden.at
CREATED:20120822T145121Z
LAST-MODIFIED:20120910T114147Z
URL:https://zmi.spielboden.at/Plone/veranstaltungen/2007/08_august/2007-08
 -25-21-00-sofa-globe-worldmusic-no-dance-event
END:VEVENT
BEGIN:VTIMEZONE
TZID:Europe/Berlin
X-LIC-LOCATION:Europe/Berlin
BEGIN:DAYLIGHT
DTSTART:20070325T030000
TZNAME:CEST
TZOFFSETFROM:+0100
TZOFFSETTO:+0200
END:DAYLIGHT
END:VTIMEZONE
END:VCALENDAR
