BEGIN:VCALENDAR
VERSION:2.0
PRODID:-//Plone.org//NONSGML plone.app.event//EN
X-WR-TIMEZONE:Europe/Berlin
BEGIN:VEVENT
SUMMARY:Johnny Cash Night
DTSTART;TZID=Europe/Berlin:20070824T210000
DTSTAMP:20260422T163235Z
UID:c2edaeed08eb42918a9100dde896300a@zmi.spielboden.at
CREATED:20120822T145124Z
LAST-MODIFIED:20210809T123659Z
URL:https://zmi.spielboden.at/Plone/veranstaltungen/2007/08_august/2007-08
 -24-21-00-johnny-cash-night
END:VEVENT
BEGIN:VTIMEZONE
TZID:Europe/Berlin
X-LIC-LOCATION:Europe/Berlin
BEGIN:DAYLIGHT
DTSTART:20070325T030000
TZNAME:CEST
TZOFFSETFROM:+0100
TZOFFSETTO:+0200
END:DAYLIGHT
END:VTIMEZONE
END:VCALENDAR
