BEGIN:VCALENDAR
VERSION:2.0
PRODID:-//Plone.org//NONSGML plone.app.event//EN
X-WR-TIMEZONE:Europe/Berlin
BEGIN:VEVENT
SUMMARY:African dance floor night
DTSTART;TZID=Europe/Berlin:20070818T210000
DTSTAMP:20260422T181421Z
UID:9749872c8297465e9f0f96203a2d20df@zmi.spielboden.at
CREATED:20120822T145123Z
LAST-MODIFIED:20120910T114147Z
URL:https://zmi.spielboden.at/Plone/veranstaltungen/2007/08_august/2007-08
 -18-21-00-african-dance-floor-night
END:VEVENT
BEGIN:VTIMEZONE
TZID:Europe/Berlin
X-LIC-LOCATION:Europe/Berlin
BEGIN:DAYLIGHT
DTSTART:20070325T030000
TZNAME:CEST
TZOFFSETFROM:+0100
TZOFFSETTO:+0200
END:DAYLIGHT
END:VTIMEZONE
END:VCALENDAR
