BEGIN:VCALENDAR
VERSION:2.0
PRODID:-//Plone.org//NONSGML plone.app.event//EN
X-WR-TIMEZONE:Europe/Berlin
BEGIN:VEVENT
SUMMARY:Elvis Night
DTSTART;TZID=Europe/Berlin:20070817T210000
DTSTAMP:20260424T120622Z
UID:14019e509eef4877a388541bf74229b8@zmi.spielboden.at
CREATED:20120822T145123Z
LAST-MODIFIED:20210809T123659Z
URL:https://zmi.spielboden.at/Plone/veranstaltungen/2007/08_august/2007-08
 -17-21-00-elvis-night
END:VEVENT
BEGIN:VTIMEZONE
TZID:Europe/Berlin
X-LIC-LOCATION:Europe/Berlin
BEGIN:DAYLIGHT
DTSTART:20070325T030000
TZNAME:CEST
TZOFFSETFROM:+0100
TZOFFSETTO:+0200
END:DAYLIGHT
END:VTIMEZONE
END:VCALENDAR
