BEGIN:VCALENDAR
VERSION:2.0
PRODID:-//Plone.org//NONSGML plone.app.event//EN
X-WR-TIMEZONE:Europe/Berlin
BEGIN:VEVENT
SUMMARY:60er-70er Party
DTSTART;TZID=Europe/Berlin:20070811T210000
DTSTAMP:20260424T153130Z
UID:e2834492899f4bc29486529933298c5a@zmi.spielboden.at
CREATED:20120822T145122Z
LAST-MODIFIED:20210809T123659Z
URL:https://zmi.spielboden.at/Plone/veranstaltungen/2007/08_august/2007-08
 -11-21-00-60er-70er-party
END:VEVENT
BEGIN:VTIMEZONE
TZID:Europe/Berlin
X-LIC-LOCATION:Europe/Berlin
BEGIN:DAYLIGHT
DTSTART:20070325T030000
TZNAME:CEST
TZOFFSETFROM:+0100
TZOFFSETTO:+0200
END:DAYLIGHT
END:VTIMEZONE
END:VCALENDAR
