BEGIN:VCALENDAR
VERSION:2.0
PRODID:-//Plone.org//NONSGML plone.app.event//EN
X-WR-TIMEZONE:Europe/Berlin
BEGIN:VEVENT
SUMMARY:Classic Rock Night
DTSTART;TZID=Europe/Berlin:20070810T210000
DTSTAMP:20260424T170426Z
UID:c17c48fe5db5462b89931b9dd8c77be0@zmi.spielboden.at
CREATED:20120822T145122Z
LAST-MODIFIED:20210809T123659Z
URL:https://zmi.spielboden.at/Plone/veranstaltungen/2007/08_august/2007-08
 -10-21-00-classic-rock-night
END:VEVENT
BEGIN:VTIMEZONE
TZID:Europe/Berlin
X-LIC-LOCATION:Europe/Berlin
BEGIN:DAYLIGHT
DTSTART:20070325T030000
TZNAME:CEST
TZOFFSETFROM:+0100
TZOFFSETTO:+0200
END:DAYLIGHT
END:VTIMEZONE
END:VCALENDAR
