BEGIN:VCALENDAR
VERSION:2.0
PRODID:-//Plone.org//NONSGML plone.app.event//EN
X-WR-TIMEZONE:Europe/Berlin
BEGIN:VEVENT
SUMMARY:Thursday’s Indie Pop and Rock Party
DTSTART;TZID=Europe/Berlin:20070802T210000
DTSTAMP:20260422T145615Z
UID:fd7c6e43a2784a9cbcaf6f07926cc5cc@zmi.spielboden.at
CREATED:20120822T145119Z
LAST-MODIFIED:20210809T123658Z
URL:https://zmi.spielboden.at/Plone/veranstaltungen/2007/08_august/2007-08
 -02-21-00-thursday2019s-indie-pop-and-rock-party
END:VEVENT
BEGIN:VTIMEZONE
TZID:Europe/Berlin
X-LIC-LOCATION:Europe/Berlin
BEGIN:DAYLIGHT
DTSTART:20070325T030000
TZNAME:CEST
TZOFFSETFROM:+0100
TZOFFSETTO:+0200
END:DAYLIGHT
END:VTIMEZONE
END:VCALENDAR
