BEGIN:VCALENDAR
VERSION:2.0
PRODID:-//Plone.org//NONSGML plone.app.event//EN
X-WR-TIMEZONE:Europe/Berlin
BEGIN:VEVENT
SUMMARY:Sofa-Globe - Worldmusic no Dance-Event
DTSTART;TZID=Europe/Berlin:20070721T210000
DTSTAMP:20260422T181524Z
UID:5d3f71ba05be4f6e82d4ffc3d0b5fd92@zmi.spielboden.at
CREATED:20120822T145118Z
LAST-MODIFIED:20120910T114146Z
URL:https://zmi.spielboden.at/Plone/veranstaltungen/2007/07_juli/2007-07-2
 1-21-00-sofa-globe-worldmusic-no-dance-event
END:VEVENT
BEGIN:VTIMEZONE
TZID:Europe/Berlin
X-LIC-LOCATION:Europe/Berlin
BEGIN:DAYLIGHT
DTSTART:20070325T030000
TZNAME:CEST
TZOFFSETFROM:+0100
TZOFFSETTO:+0200
END:DAYLIGHT
END:VTIMEZONE
END:VCALENDAR
