BEGIN:VCALENDAR
VERSION:2.0
PRODID:-//Plone.org//NONSGML plone.app.event//EN
X-WR-TIMEZONE:Europe/Berlin
BEGIN:VEVENT
SUMMARY:Austro Pop Liedermacher und NDW
DTSTART;TZID=Europe/Berlin:20070720T210000
DTSTAMP:20260422T181530Z
UID:36273d231ec04931bf931855b9f51fbe@zmi.spielboden.at
CREATED:20120822T145117Z
LAST-MODIFIED:20210809T123658Z
URL:https://zmi.spielboden.at/Plone/veranstaltungen/2007/07_juli/2007-07-2
 0-21-00-austro-pop-liedermacher-und-ndw
END:VEVENT
BEGIN:VTIMEZONE
TZID:Europe/Berlin
X-LIC-LOCATION:Europe/Berlin
BEGIN:DAYLIGHT
DTSTART:20070325T030000
TZNAME:CEST
TZOFFSETFROM:+0100
TZOFFSETTO:+0200
END:DAYLIGHT
END:VTIMEZONE
END:VCALENDAR
