BEGIN:VCALENDAR
VERSION:2.0
PRODID:-//Plone.org//NONSGML plone.app.event//EN
X-WR-TIMEZONE:Europe/Berlin
BEGIN:VEVENT
SUMMARY:Open Air Kino – Wer früher stirbt\, ist länger tot
DTSTART;TZID=Europe/Berlin:20070715T220000
DTSTAMP:20260422T181942Z
UID:47a64de2cb2b4d0193a232acc495bd33@zmi.spielboden.at
CREATED:20120822T145111Z
LAST-MODIFIED:20120910T114146Z
URL:https://zmi.spielboden.at/Plone/veranstaltungen/2007/07_juli/2007-07-1
 5-22-00-open-air-kino-2013-wer-frueher-stirbt-ist-laenger-tot
END:VEVENT
BEGIN:VTIMEZONE
TZID:Europe/Berlin
X-LIC-LOCATION:Europe/Berlin
BEGIN:DAYLIGHT
DTSTART:20070325T030000
TZNAME:CEST
TZOFFSETFROM:+0100
TZOFFSETTO:+0200
END:DAYLIGHT
END:VTIMEZONE
END:VCALENDAR
