BEGIN:VCALENDAR
VERSION:2.0
PRODID:-//Plone.org//NONSGML plone.app.event//EN
X-WR-TIMEZONE:Europe/Berlin
BEGIN:VEVENT
SUMMARY:Open Air Kino – Volver
DTSTART;TZID=Europe/Berlin:20070713T220000
DTSTAMP:20260422T145524Z
UID:edd263ec3b504c948b1d6cdba06a19d8@zmi.spielboden.at
CREATED:20120822T145109Z
LAST-MODIFIED:20210809T123657Z
URL:https://zmi.spielboden.at/Plone/veranstaltungen/2007/07_juli/2007-07-1
 3-22-00-open-air-kino-2013-volver
END:VEVENT
BEGIN:VTIMEZONE
TZID:Europe/Berlin
X-LIC-LOCATION:Europe/Berlin
BEGIN:DAYLIGHT
DTSTART:20070325T030000
TZNAME:CEST
TZOFFSETFROM:+0100
TZOFFSETTO:+0200
END:DAYLIGHT
END:VTIMEZONE
END:VCALENDAR
