BEGIN:VCALENDAR
VERSION:2.0
PRODID:-//Plone.org//NONSGML plone.app.event//EN
X-WR-TIMEZONE:Europe/Berlin
BEGIN:VEVENT
SUMMARY:Disco week from the 70ies
DTSTART;TZID=Europe/Berlin:20070710T210000
DTSTAMP:20260422T145517Z
UID:1c3bef86ac8a4a22a71a2af4e4fb81a1@zmi.spielboden.at
CREATED:20120822T145106Z
LAST-MODIFIED:20210809T123657Z
URL:https://zmi.spielboden.at/Plone/veranstaltungen/2007/07_juli/2007-07-1
 0-21-00-disco-week-from-the-70ies
END:VEVENT
BEGIN:VTIMEZONE
TZID:Europe/Berlin
X-LIC-LOCATION:Europe/Berlin
BEGIN:DAYLIGHT
DTSTART:20070325T030000
TZNAME:CEST
TZOFFSETFROM:+0100
TZOFFSETTO:+0200
END:DAYLIGHT
END:VTIMEZONE
END:VCALENDAR
