BEGIN:VCALENDAR
VERSION:2.0
PRODID:-//Plone.org//NONSGML plone.app.event//EN
X-WR-TIMEZONE:Europe/Berlin
BEGIN:VEVENT
SUMMARY:Biergartenkino – Film – Lammbock
DTSTART;TZID=Europe/Berlin:20070706T220000
DTSTAMP:20260422T145652Z
UID:e9c5b8e8237147a78f82163b4b9c0656@zmi.spielboden.at
CREATED:20120822T145104Z
LAST-MODIFIED:20210809T123657Z
URL:https://zmi.spielboden.at/Plone/veranstaltungen/2007/07_juli/2007-07-0
 6-22-00-biergartenkino-2013-film-2013-lammbock
END:VEVENT
BEGIN:VTIMEZONE
TZID:Europe/Berlin
X-LIC-LOCATION:Europe/Berlin
BEGIN:DAYLIGHT
DTSTART:20070325T030000
TZNAME:CEST
TZOFFSETFROM:+0100
TZOFFSETTO:+0200
END:DAYLIGHT
END:VTIMEZONE
END:VCALENDAR
