BEGIN:VCALENDAR
VERSION:2.0
PRODID:-//Plone.org//NONSGML plone.app.event//EN
X-WR-TIMEZONE:Europe/Berlin
BEGIN:VEVENT
SUMMARY:Biergartenkino – Dokumentarfilm – Step into Liquid
DTSTART;TZID=Europe/Berlin:20070705T220000
DTSTAMP:20260422T145633Z
UID:5efb266aaa244ce78488b21449578ed5@zmi.spielboden.at
CREATED:20120822T145104Z
LAST-MODIFIED:20210809T123657Z
URL:https://zmi.spielboden.at/Plone/veranstaltungen/2007/07_juli/2007-07-0
 5-22-00-biergartenkino-2013-dokumentarfilm-2013-step-into-liquid
END:VEVENT
BEGIN:VTIMEZONE
TZID:Europe/Berlin
X-LIC-LOCATION:Europe/Berlin
BEGIN:DAYLIGHT
DTSTART:20070325T030000
TZNAME:CEST
TZOFFSETFROM:+0100
TZOFFSETTO:+0200
END:DAYLIGHT
END:VTIMEZONE
END:VCALENDAR
