BEGIN:VCALENDAR
VERSION:2.0
PRODID:-//Plone.org//NONSGML plone.app.event//EN
X-WR-TIMEZONE:Europe/Berlin
BEGIN:VEVENT
SUMMARY:Balkan Ska Reggae Punk – Trovaci
DTSTART;TZID=Europe/Berlin:20070704T210000
DTSTAMP:20260422T145621Z
UID:dbbb6a7de42a42ff82ccaa9e75cb879d@zmi.spielboden.at
CREATED:20120822T145103Z
LAST-MODIFIED:20120910T114145Z
URL:https://zmi.spielboden.at/Plone/veranstaltungen/2007/07_juli/2007-07-0
 4-21-00-balkan-ska-reggae-punk-2013-trovaci
END:VEVENT
BEGIN:VTIMEZONE
TZID:Europe/Berlin
X-LIC-LOCATION:Europe/Berlin
BEGIN:DAYLIGHT
DTSTART:20070325T030000
TZNAME:CEST
TZOFFSETFROM:+0100
TZOFFSETTO:+0200
END:DAYLIGHT
END:VTIMEZONE
END:VCALENDAR
