BEGIN:VCALENDAR
VERSION:2.0
PRODID:-//Plone.org//NONSGML plone.app.event//EN
X-WR-TIMEZONE:Europe/Berlin
BEGIN:VEVENT
SUMMARY:Dokumentarfilm – Ewige Schönheit
DTSTART;TZID=Europe/Berlin:20070703T203000
DTSTAMP:20260422T181936Z
UID:7a61cfb97fe04e219c9ce510387ed315@zmi.spielboden.at
CREATED:20120822T145058Z
LAST-MODIFIED:20210809T123655Z
URL:https://zmi.spielboden.at/Plone/veranstaltungen/2007/06_juni/2007-07-0
 3-20-30-dokumentarfilm-2013-ewige-schoenheit
END:VEVENT
BEGIN:VTIMEZONE
TZID:Europe/Berlin
X-LIC-LOCATION:Europe/Berlin
BEGIN:DAYLIGHT
DTSTART:20070325T030000
TZNAME:CEST
TZOFFSETFROM:+0100
TZOFFSETTO:+0200
END:DAYLIGHT
END:VTIMEZONE
END:VCALENDAR
