BEGIN:VCALENDAR
VERSION:2.0
PRODID:-//Plone.org//NONSGML plone.app.event//EN
X-WR-TIMEZONE:Europe/Berlin
BEGIN:VEVENT
SUMMARY:KULTNACHT 2007 – Frei(t)räume
DTSTART;TZID=Europe/Berlin:20070701T060000
DTSTAMP:20260422T181844Z
UID:bd1ef9e3780f43538d360d447041395d@zmi.spielboden.at
CREATED:20120822T145101Z
LAST-MODIFIED:20210809T123656Z
URL:https://zmi.spielboden.at/Plone/veranstaltungen/2007/06_juni/2007-07-0
 1-06-00-kultnacht-2007-2013-frei-t-raeume
END:VEVENT
BEGIN:VTIMEZONE
TZID:Europe/Berlin
X-LIC-LOCATION:Europe/Berlin
BEGIN:DAYLIGHT
DTSTART:20070325T030000
TZNAME:CEST
TZOFFSETFROM:+0100
TZOFFSETTO:+0200
END:DAYLIGHT
END:VTIMEZONE
END:VCALENDAR
