BEGIN:VCALENDAR
VERSION:2.0
PRODID:-//Plone.org//NONSGML plone.app.event//EN
X-WR-TIMEZONE:Europe/Berlin
BEGIN:VEVENT
SUMMARY:Konzert – Schellinski
DTSTART;TZID=Europe/Berlin:20070629T203000
DTSTAMP:20260422T181326Z
UID:5182578880df46aa9634e23be8f54e74@zmi.spielboden.at
CREATED:20120822T145059Z
LAST-MODIFIED:20210809T123655Z
URL:https://zmi.spielboden.at/Plone/veranstaltungen/2007/06_juni/2007-06-2
 9-20-30-konzert-2013-schellinski
END:VEVENT
BEGIN:VTIMEZONE
TZID:Europe/Berlin
X-LIC-LOCATION:Europe/Berlin
BEGIN:DAYLIGHT
DTSTART:20070325T030000
TZNAME:CEST
TZOFFSETFROM:+0100
TZOFFSETTO:+0200
END:DAYLIGHT
END:VTIMEZONE
END:VCALENDAR
