BEGIN:VCALENDAR
VERSION:2.0
PRODID:-//Plone.org//NONSGML plone.app.event//EN
X-WR-TIMEZONE:Europe/Berlin
BEGIN:VEVENT
SUMMARY:Dokumentarfilm – Der unbekannte Soldat
DTSTART;TZID=Europe/Berlin:20070627T203000
DTSTAMP:20260422T195942Z
UID:ae92c9f307864807a979d4525974ec91@zmi.spielboden.at
CREATED:20120822T145044Z
LAST-MODIFIED:20210809T123654Z
URL:https://zmi.spielboden.at/Plone/veranstaltungen/2007/06_juni/2007-06-2
 7-20-30-dokumentarfilm-2013-der-unbekannte-soldat
END:VEVENT
BEGIN:VTIMEZONE
TZID:Europe/Berlin
X-LIC-LOCATION:Europe/Berlin
BEGIN:DAYLIGHT
DTSTART:20070325T030000
TZNAME:CEST
TZOFFSETFROM:+0100
TZOFFSETTO:+0200
END:DAYLIGHT
END:VTIMEZONE
END:VCALENDAR
