BEGIN:VCALENDAR
VERSION:2.0
PRODID:-//Plone.org//NONSGML plone.app.event//EN
X-WR-TIMEZONE:Europe/Berlin
BEGIN:VEVENT
SUMMARY:tanz ist Festival 07 - Alexandra Bachzetsis (B/CH) - GOLD
DTSTART;TZID=Europe/Berlin:20070623T203000
DTSTAMP:20260422T145948Z
UID:12318dd09cef4aedb31739e90281e593@zmi.spielboden.at
CREATED:20120822T145036Z
DESCRIPTION:Performance 
LAST-MODIFIED:20210809T123652Z
URL:https://zmi.spielboden.at/Plone/veranstaltungen/2007/06_juni/2007-06-2
 3-20-30-tanz-ist-festival-07-alexandra-bachzetsis-b-ch-gold
END:VEVENT
BEGIN:VTIMEZONE
TZID:Europe/Berlin
X-LIC-LOCATION:Europe/Berlin
BEGIN:DAYLIGHT
DTSTART:20070325T030000
TZNAME:CEST
TZOFFSETFROM:+0100
TZOFFSETTO:+0200
END:DAYLIGHT
END:VTIMEZONE
END:VCALENDAR
