BEGIN:VCALENDAR
VERSION:2.0
PRODID:-//Plone.org//NONSGML plone.app.event//EN
X-WR-TIMEZONE:Europe/Berlin
BEGIN:VEVENT
SUMMARY:tanz ist Festival 07 - Georg Blaschke (A) - körper.bauen.stellen
DTSTART;TZID=Europe/Berlin:20070622T213000
DTSTAMP:20260422T132229Z
UID:3381c3366b704ab8b2cbd915a93b612f@zmi.spielboden.at
CREATED:20120822T145037Z
DESCRIPTION:Performance / Tanz
LAST-MODIFIED:20210809T123652Z
URL:https://zmi.spielboden.at/Plone/veranstaltungen/2007/06_juni/2007-06-2
 2-21-30-tanz-ist-festival-07-georg-blaschke-a-koerper-bauen-stellen
END:VEVENT
BEGIN:VTIMEZONE
TZID:Europe/Berlin
X-LIC-LOCATION:Europe/Berlin
BEGIN:DAYLIGHT
DTSTART:20070325T030000
TZNAME:CEST
TZOFFSETFROM:+0100
TZOFFSETTO:+0200
END:DAYLIGHT
END:VTIMEZONE
END:VCALENDAR
