BEGIN:VCALENDAR
VERSION:2.0
PRODID:-//Plone.org//NONSGML plone.app.event//EN
X-WR-TIMEZONE:Europe/Berlin
BEGIN:VEVENT
SUMMARY:tanz ist Festival 07 - The alpha group zeigt: just 30 minutes\, ti
 mextension und slippery eel
DTSTART;TZID=Europe/Berlin:20070620T203000
DTSTAMP:20260422T150200Z
UID:1d1ce7cc7c4e4e268d6025888197f73d@zmi.spielboden.at
CREATED:20120822T145039Z
LAST-MODIFIED:20210809T123653Z
URL:https://zmi.spielboden.at/Plone/veranstaltungen/2007/06_juni/2007-06-2
 0-20-30-tanz-ist-festival-07-the-alpha-group-zeigt-just-30-minutes-timexte
 nsion-und-slippery-eel
END:VEVENT
BEGIN:VTIMEZONE
TZID:Europe/Berlin
X-LIC-LOCATION:Europe/Berlin
BEGIN:DAYLIGHT
DTSTART:20070325T030000
TZNAME:CEST
TZOFFSETFROM:+0100
TZOFFSETTO:+0200
END:DAYLIGHT
END:VTIMEZONE
END:VCALENDAR
