BEGIN:VCALENDAR
VERSION:2.0
PRODID:-//Plone.org//NONSGML plone.app.event//EN
X-WR-TIMEZONE:Europe/Berlin
BEGIN:VEVENT
SUMMARY:tanz ist Festival 07 - Intensivworkshop mit Georg Blaschke Contemp
 orary Dance Technique
DTSTART;TZID=Europe/Berlin:20070617T130000
DTSTAMP:20260422T145953Z
UID:57bf0636389c453395bfb336c7cccec8@zmi.spielboden.at
CREATED:20120822T145042Z
LAST-MODIFIED:20210809T123653Z
URL:https://zmi.spielboden.at/Plone/veranstaltungen/2007/06_juni/2007-06-1
 7-13-00-tanz-ist-festival-07-intensivworkshop-mit-georg-blaschke-contempor
 ary-dance-technique
END:VEVENT
BEGIN:VTIMEZONE
TZID:Europe/Berlin
X-LIC-LOCATION:Europe/Berlin
BEGIN:DAYLIGHT
DTSTART:20070325T030000
TZNAME:CEST
TZOFFSETFROM:+0100
TZOFFSETTO:+0200
END:DAYLIGHT
END:VTIMEZONE
END:VCALENDAR
