BEGIN:VCALENDAR
VERSION:2.0
PRODID:-//Plone.org//NONSGML plone.app.event//EN
X-WR-TIMEZONE:Europe/Berlin
BEGIN:VEVENT
SUMMARY:tanz ist Festival 07 -  Palimpsest - Ein Tanzstück - Österreichp
 remiere
DTSTART;TZID=Europe/Berlin:20070616T203000
DTSTAMP:20260422T133455Z
UID:36adc2807cec444f973d498e92a1ad73@zmi.spielboden.at
CREATED:20120822T145038Z
DESCRIPTION:Performance / Tanz
LAST-MODIFIED:20210809T123653Z
URL:https://zmi.spielboden.at/Plone/veranstaltungen/2007/06_juni/2007-06-1
 6-20-30-tanz-ist-festival-07-palimpsest-ein-tanzstueck-oesterreichpremiere
END:VEVENT
BEGIN:VTIMEZONE
TZID:Europe/Berlin
X-LIC-LOCATION:Europe/Berlin
BEGIN:DAYLIGHT
DTSTART:20070325T030000
TZNAME:CEST
TZOFFSETFROM:+0100
TZOFFSETTO:+0200
END:DAYLIGHT
END:VTIMEZONE
END:VCALENDAR
