BEGIN:VCALENDAR
VERSION:2.0
PRODID:-//Plone.org//NONSGML plone.app.event//EN
X-WR-TIMEZONE:Europe/Berlin
BEGIN:VEVENT
SUMMARY:tanz ist Festival 07 - Günter Marinelli - Including myself
DTSTART;TZID=Europe/Berlin:20070616T200000
DTSTAMP:20260422T133027Z
UID:6300bf23ccbd4a5fa09ca6363fc6313a@zmi.spielboden.at
CREATED:20120822T145033Z
DESCRIPTION:Installation /Performance
LAST-MODIFIED:20210809T123652Z
URL:https://zmi.spielboden.at/Plone/veranstaltungen/2007/06_juni/2007-06-1
 6-20-00-tanz-ist-festival-07-guenter-marinelli-including-myself
END:VEVENT
BEGIN:VTIMEZONE
TZID:Europe/Berlin
X-LIC-LOCATION:Europe/Berlin
BEGIN:DAYLIGHT
DTSTART:20070325T030000
TZNAME:CEST
TZOFFSETFROM:+0100
TZOFFSETTO:+0200
END:DAYLIGHT
END:VTIMEZONE
END:VCALENDAR
