BEGIN:VCALENDAR
VERSION:2.0
PRODID:-//Plone.org//NONSGML plone.app.event//EN
X-WR-TIMEZONE:Europe/Berlin
BEGIN:VEVENT
SUMMARY:Dont muse – dance!
DTSTART;TZID=Europe/Berlin:20070615T220000
DTSTAMP:20260422T130656Z
UID:9f4e1d55bf184f628dca5331e1336f29@zmi.spielboden.at
CREATED:20120822T145102Z
LAST-MODIFIED:20210809T123657Z
URL:https://zmi.spielboden.at/Plone/veranstaltungen/2007/06_juni/2007-06-1
 5-22-00-dont-muse-2013-dance
END:VEVENT
BEGIN:VTIMEZONE
TZID:Europe/Berlin
X-LIC-LOCATION:Europe/Berlin
BEGIN:DAYLIGHT
DTSTART:20070325T030000
TZNAME:CEST
TZOFFSETFROM:+0100
TZOFFSETTO:+0200
END:DAYLIGHT
END:VTIMEZONE
END:VCALENDAR
