BEGIN:VCALENDAR
VERSION:2.0
PRODID:-//Plone.org//NONSGML plone.app.event//EN
X-WR-TIMEZONE:Europe/Berlin
BEGIN:VEVENT
SUMMARY:tanz ist Festival 07 - Chris Haring / Liquid Loft zeigen: Posing P
 roject - The Art of Wow
DTSTART;TZID=Europe/Berlin:20070615T203000
DTSTAMP:20260422T182115Z
UID:5ba7074cf4734723b08f473a4b49a2f0@zmi.spielboden.at
CREATED:20120822T145039Z
DESCRIPTION:Tanz / Performance
LAST-MODIFIED:20210809T123653Z
URL:https://zmi.spielboden.at/Plone/veranstaltungen/2007/06_juni/2007-06-1
 5-20-30-tanz-ist-festival-07-chris-haring-liquid-loft-zeigen-posing-projec
 t-the-art-of-wow
END:VEVENT
BEGIN:VTIMEZONE
TZID:Europe/Berlin
X-LIC-LOCATION:Europe/Berlin
BEGIN:DAYLIGHT
DTSTART:20070325T030000
TZNAME:CEST
TZOFFSETFROM:+0100
TZOFFSETTO:+0200
END:DAYLIGHT
END:VTIMEZONE
END:VCALENDAR
