BEGIN:VCALENDAR
VERSION:2.0
PRODID:-//Plone.org//NONSGML plone.app.event//EN
X-WR-TIMEZONE:Europe/Berlin
BEGIN:VEVENT
SUMMARY:Konzert – Mose
DTSTART;TZID=Europe/Berlin:20070614T220000
DTSTAMP:20260422T130733Z
UID:4893b25132b6475daaca0b71c0abb90f@zmi.spielboden.at
CREATED:20120822T145055Z
LAST-MODIFIED:20210809T123655Z
URL:https://zmi.spielboden.at/Plone/veranstaltungen/2007/06_juni/2007-06-1
 4-22-00-konzert-2013-mose
END:VEVENT
BEGIN:VTIMEZONE
TZID:Europe/Berlin
X-LIC-LOCATION:Europe/Berlin
BEGIN:DAYLIGHT
DTSTART:20070325T030000
TZNAME:CEST
TZOFFSETFROM:+0100
TZOFFSETTO:+0200
END:DAYLIGHT
END:VTIMEZONE
END:VCALENDAR
