BEGIN:VCALENDAR
VERSION:2.0
PRODID:-//Plone.org//NONSGML plone.app.event//EN
X-WR-TIMEZONE:Europe/Berlin
BEGIN:VEVENT
SUMMARY:Dokumentarfilm – Ballets Russes
DTSTART;TZID=Europe/Berlin:20070613T203000
DTSTAMP:20260422T131757Z
UID:af2e0a67ad4c4507b74879be91b0c43d@zmi.spielboden.at
CREATED:20120822T145043Z
LAST-MODIFIED:20210809T123654Z
URL:https://zmi.spielboden.at/Plone/veranstaltungen/2007/06_juni/2007-06-1
 3-20-30-dokumentarfilm-2013-ballets-russes
END:VEVENT
BEGIN:VTIMEZONE
TZID:Europe/Berlin
X-LIC-LOCATION:Europe/Berlin
BEGIN:DAYLIGHT
DTSTART:20070325T030000
TZNAME:CEST
TZOFFSETFROM:+0100
TZOFFSETTO:+0200
END:DAYLIGHT
END:VTIMEZONE
END:VCALENDAR
